BEGIN:VCALENDAR
PRODID:-//AT Content Types//AT Event//EN
VERSION:2.0
METHOD:PUBLISH
BEGIN:VEVENT
DTSTAMP:20260421T164549Z
CREATED:20200710T132247Z
UID:ATEvent-10cecb1e97f64235bf318b4d50b0e211
LAST-MODIFIED:20200710T133511Z
SUMMARY:Test
DTSTART:20200710T132500Z
DTEND:20200710T132500Z
CLASS:PUBLIC
END:VEVENT
END:VCALENDAR
