BEGIN:VCALENDAR
PRODID:-//AT Content Types//AT Event//EN
VERSION:2.0
METHOD:PUBLISH
X-WR-CALNAME:Events
X-WR-CALDESC:
BEGIN:VEVENT
DTSTAMP:20260421T114526Z
CREATED:20201130T153807Z
UID:ATEvent-b1f0aa5474914789bd7d875bfa17a7ea
LAST-MODIFIED:20210203T000317Z
SUMMARY:Parent Council meeting
DTSTART:20201201T180000Z
DTEND:20201201T190000Z
LOCATION:Zoom
CLASS:PUBLIC
END:VEVENT
BEGIN:VEVENT
DTSTAMP:20260421T114526Z
CREATED:20201130T154002Z
UID:ATEvent-daf57d8e91464780af14d74418d994d4
LAST-MODIFIED:20210203T000317Z
SUMMARY:Christmas Jumper Day
DTSTART:20201209T090000Z
DTEND:20201209T151500Z
LOCATION:Sidlaw View Primary
CLASS:PUBLIC
END:VEVENT
BEGIN:VEVENT
DTSTAMP:20260421T114526Z
CREATED:20210202T235525Z
UID:ATEvent-721979ea97e14843a88fc5f79bbb13e6
LAST-MODIFIED:20210203T000317Z
SUMMARY:Holiday
DTSTART:20210212T000000Z
DTEND:20210212T235500Z
CLASS:PUBLIC
END:VEVENT
BEGIN:VEVENT
DTSTAMP:20260421T114526Z
CREATED:20210203T000011Z
UID:ATEvent-a42530fb2ef5451ba4e1533e37255fb4
LAST-MODIFIED:20210203T000317Z
SUMMARY:Holiday
DTSTART:20210215T000000Z
DTEND:20210215T235500Z
CLASS:PUBLIC
END:VEVENT
BEGIN:VEVENT
DTSTAMP:20260421T114526Z
CREATED:20210203T000046Z
UID:ATEvent-75b319a9a55a4a54810a8106e2b1e6ef
LAST-MODIFIED:20210203T000206Z
SUMMARY:In Service Training
DTSTART:20210216T000000Z
DTEND:20210216T235500Z
CLASS:PUBLIC
END:VEVENT
BEGIN:VEVENT
DTSTAMP:20260421T114526Z
CREATED:20210203T000155Z
UID:ATEvent-d16145aa78894dacb0aa9c5ee5af579d
LAST-MODIFIED:20210203T000317Z
SUMMARY:First Minister Announcement
DTSTART:20210216T140000Z
DTEND:20210216T155500Z
CLASS:PUBLIC
END:VEVENT
BEGIN:VEVENT
DTSTAMP:20260421T114526Z
CREATED:20210524T161803Z
UID:ATEvent-b77abbdf94de4ad3a48b1b874f620879
LAST-MODIFIED:20210524T161828Z
SUMMARY:Transition Event for new Primary 1
DTSTART:20210525T143000Z
DTEND:20210525T160000Z
DESCRIPTION:By invitation only.
CLASS:PUBLIC
END:VEVENT
BEGIN:VEVENT
DTSTAMP:20260421T114526Z
CREATED:20200710T132247Z
UID:ATEvent-10cecb1e97f64235bf318b4d50b0e211
LAST-MODIFIED:20200710T133511Z
SUMMARY:Test
DTSTART:20200710T132500Z
DTEND:20200710T132500Z
CLASS:PUBLIC
END:VEVENT
BEGIN:VEVENT
DTSTAMP:20260421T114526Z
CREATED:20200710T152401Z
UID:ATEvent-482c4d07ad414d13af9c2539a7da74d2
LAST-MODIFIED:20200710T152831Z
SUMMARY:John Swinney Announcement
DTSTART:20200730T110000Z
DTEND:20200730T120000Z
URL:http://www.scotgov.uk
CLASS:PUBLIC
END:VEVENT
END:VCALENDAR
